BEGIN:VCALENDAR
VERSION:2.0
PRODID:-//ChamberMaster//Event Calendar 2.0//EN
METHOD:PUBLISH
X-PUBLISHED-TTL:P3D
REFRESH-INTERVAL:P3D
CALSCALE:GREGORIAN
BEGIN:VEVENT
DTSTART:20120122T140000Z
DTEND:20120122T190000Z
X-MICROSOFT-CDO-ALLDAYEVENT:FALSE
SUMMARY:Pancake Feed hosted by Kiwanis Helping Hands
DESCRIPTION:The Helping Hands Kiwanis will be hosting it's annual Pancake Feed Fundraiser.
X-ALT-DESC;FMTTYPE=text/html:The Helping Hands Kiwanis will be hosting it&#39\;s annual Pancake Feed Fundraiser.
LOCATION:Seward Civic Center - Lower Level 616 Bradford St. Seward\, NE 68434
UID:e.865.1201
SEQUENCE:3
DTSTAMP:20260424T124407Z
URL:https://business.cultivatesewardcounty.com/events/details/pancake-feed-hosted-by-kiwanis-helping-hands-01-22-2012-1201
END:VEVENT

END:VCALENDAR
