BEGIN:VCALENDAR
VERSION:2.0
PRODID:-//ChamberMaster//Event Calendar 2.0//EN
METHOD:PUBLISH
X-PUBLISHED-TTL:P3D
REFRESH-INTERVAL:P3D
CALSCALE:GREGORIAN
BEGIN:VEVENT
DTSTART:20121005T010000Z
DTEND:20121005T023000Z
X-MICROSOFT-CDO-ALLDAYEVENT:FALSE
SUMMARY:Osten Observatory Open House
DESCRIPTION:Visitors should be able to see a great range of celestial bodies\, including the Moon\, Venus\, Mars and Jupiter\, as well as the great nebula in Orion and a cluster of hundreds of thousands of stars.\n\n\n\nThose heading to the observatory should check the weather first. In the event of poor weather\, the viewings will be cancelled for the evening.
X-ALT-DESC;FMTTYPE=text/html:<span style="color: rgb(0\, 0\, 0)\; font-family: 'Times New Roman'\; font-size: medium\; ">Visitors should be able to see a great range of celestial bodies\, including the Moon\, Venus\, Mars and Jupiter\, as well as the great nebula in Orion and a cluster of hundreds of thousands of stars.</span><br style="color: rgb(0\, 0\, 0)\; font-family: 'Times New Roman'\; font-size: medium\; " />\n<br style="color: rgb(0\, 0\, 0)\; font-family: 'Times New Roman'\; font-size: medium\; " />\n<span style="color: rgb(0\, 0\, 0)\; font-family: 'Times New Roman'\; font-size: medium\; ">Those heading to the observatory should check the weather first. In the event of poor weather\, the viewings will be cancelled for the evening.</span>
LOCATION:Northeast corner of campus along Hillcrest Drive
UID:e.865.1714
SEQUENCE:3
DTSTAMP:20260422T112813Z
URL:https://business.cultivatesewardcounty.com/events/details/osten-observatory-open-house-10-04-2012-1714
END:VEVENT

END:VCALENDAR
