BEGIN:VCALENDAR
VERSION:2.0
PRODID:-//ChamberMaster//Event Calendar 2.0//EN
METHOD:PUBLISH
X-PUBLISHED-TTL:P3D
REFRESH-INTERVAL:P3D
CALSCALE:GREGORIAN
BEGIN:VEVENT
DTSTART:20130623T200000Z
DTEND:20130623T220000Z
X-MICROSOFT-CDO-ALLDAYEVENT:FALSE
SUMMARY:Organ Recital
DESCRIPTION:Organ Recital\n\nGuest recital featuring Joel Bejot\, Director of Music at Faith Lutheran Church\, Castle Rock\, Colo.
X-ALT-DESC;FMTTYPE=text/html:<span style="font-size: medium\;"><span style="font-family: calibri\;">Organ Recital</span></span><br />\n<span style="font-size: medium\;"><span style="font-family: calibri\;">Guest recital featuring Joel Bejot\, Director of Music at Faith Lutheran Church\, Castle Rock\, Colo.</span></span><br />\n<br />\n
LOCATION:Concordia University 800 N. Columbia Seward\, NE
UID:e.865.2769
SEQUENCE:3
DTSTAMP:20260422T002856Z
URL:https://business.cultivatesewardcounty.com/events/details/organ-recital-06-23-2013-2769
END:VEVENT

END:VCALENDAR
