BEGIN:VCALENDAR
VERSION:2.0
PRODID:-//ChamberMaster//Event Calendar 2.0//EN
METHOD:PUBLISH
X-PUBLISHED-TTL:P3D
REFRESH-INTERVAL:P3D
CALSCALE:GREGORIAN
BEGIN:VEVENT
DTSTART:20140509T000000Z
DTEND:20140509T020000Z
X-MICROSOFT-CDO-ALLDAYEVENT:FALSE
SUMMARY:OPEN "no" Mic Night at Red Path Gallery
DESCRIPTION:OPEN "no" Mic Night at Red Path Gallery  -  Read your poetry or play a song.  Concordia University students partner with the community.  The stage is yours.\n\nhttp://www.redpathgallery.com
X-ALT-DESC;FMTTYPE=text/html:OPEN &quot\;no&quot\; Mic Night at Red Path Gallery&nbsp\; -&nbsp\; Read your poetry or play a song.&nbsp\; Concordia University students partner with the community.&nbsp\; The stage is yours.<br />\n<a href="http://www.redpathgallery.com">http://www.redpathgallery.com</a>
LOCATION:Red Path Gallery 514 Seward St. Seward\, NE
UID:e.865.3850
SEQUENCE:3
DTSTAMP:20260421T100259Z
URL:https://business.cultivatesewardcounty.com/events/details/open-no-mic-night-at-red-path-gallery-05-08-2014-3850
END:VEVENT

END:VCALENDAR
