BEGIN:VCALENDAR
VERSION:2.0
PRODID:-//ChamberMaster//Event Calendar 2.0//EN
METHOD:PUBLISH
X-PUBLISHED-TTL:P3D
REFRESH-INTERVAL:P3D
CALSCALE:GREGORIAN
BEGIN:VEVENT
DTSTART:20130226T233000Z
DTEND:20130227T010000Z
X-MICROSOFT-CDO-ALLDAYEVENT:FALSE
SUMMARY:Open House Wine & Cheese at the Greene House
DESCRIPTION:Greene House is proud to work with Physmed\, Inc.\, Lincare\, and Hospice Community Care.  Join us for some free wine and cheese and learn more about these home healthcare providers and how they work with our residents.
X-ALT-DESC;FMTTYPE=text/html:Greene House is proud to work with Physmed\, Inc.\, Lincare\, and Hospice Community Care.&nbsp\; Join us for some free wine and cheese and learn more about these home healthcare providers and how they work with our residents.
LOCATION:600 Church Street
UID:e.865.1750
SEQUENCE:3
DTSTAMP:20260422T071216Z
URL:https://business.cultivatesewardcounty.com/events/details/open-house-wine-cheese-at-the-greene-house-02-26-2013-1750
END:VEVENT

END:VCALENDAR
