BEGIN:VCALENDAR
VERSION:2.0
PRODID:-//ChamberMaster//Event Calendar 2.0//EN
METHOD:PUBLISH
X-PUBLISHED-TTL:P3D
REFRESH-INTERVAL:P3D
CALSCALE:GREGORIAN
BEGIN:VEVENT
DTSTART:20130818T190000Z
DTEND:20130818T210000Z
X-MICROSOFT-CDO-ALLDAYEVENT:FALSE
SUMMARY:Open House\, States Ballroom at Bee\, NE
DESCRIPTION:Open House in the States Ballroom at Bee\, NE.  Newly installed air conditioner.  Refreshments will be served.
X-ALT-DESC;FMTTYPE=text/html:Open House in the States Ballroom at Bee\, NE.&nbsp\; Newly installed air conditioner.&nbsp\; Refreshments will be served.
LOCATION:States Ballroom Bee\, NE
UID:e.865.2892
SEQUENCE:3
DTSTAMP:20260421T215104Z
URL:https://business.cultivatesewardcounty.com/events/details/open-house-states-ballroom-at-bee-ne-08-18-2013-2892
END:VEVENT

END:VCALENDAR
