BEGIN:VCALENDAR
VERSION:2.0
PRODID:-//ChamberMaster//Event Calendar 2.0//EN
METHOD:PUBLISH
X-PUBLISHED-TTL:P3D
REFRESH-INTERVAL:P3D
CALSCALE:GREGORIAN
BEGIN:VEVENT
DTSTART:20110507T160000Z
DTEND:20110507T190000Z
X-MICROSOFT-CDO-ALLDAYEVENT:FALSE
SUMMARY:Open House - Seward Academy/Tasteful Indulgence
DESCRIPTION:Come join in the fun with an "Open House" of the new facility for Seward Academy and Tasteful Indulgence.  There will be food\, fun\, games for everyone!
X-ALT-DESC;FMTTYPE=text/html:Come join in the fun with an &quot\;Open House&quot\; of the new facility for Seward Academy and Tasteful Indulgence.&nbsp\; There will be food\, fun\, games for everyone!
LOCATION:New location on the corner of Bradford and 7th Streets across the street from the Seward Civic Center.
UID:e.865.1084
SEQUENCE:3
DTSTAMP:20260424T231537Z
URL:https://business.cultivatesewardcounty.com/events/details/open-house-seward-academy-tasteful-indulgence-05-07-2011-1084
END:VEVENT

END:VCALENDAR
