BEGIN:VCALENDAR
VERSION:2.0
PRODID:-//ChamberMaster//Event Calendar 2.0//EN
METHOD:PUBLISH
X-PUBLISHED-TTL:P3D
REFRESH-INTERVAL:P3D
CALSCALE:GREGORIAN
BEGIN:VEVENT
DTSTART:20131109T190000Z
DTEND:20131109T230000Z
X-MICROSOFT-CDO-ALLDAYEVENT:FALSE
SUMMARY:Open House for Guild of Natural Science Illustrators
DESCRIPTION:Open House for Guild of Natural Science Illustrators  -  meet the artists from the Guild of Natural Science Illustrators and see their works of art.
X-ALT-DESC;FMTTYPE=text/html:Open House for Guild of Natural Science Illustrators&nbsp\; -&nbsp\; meet the artists from the Guild of Natural Science Illustrators and see their works of art.
LOCATION:Civic Center Langworthy Gallery 616 Bradford St. Seward\, NE
UID:e.865.3345
SEQUENCE:3
DTSTAMP:20260421T180150Z
URL:https://business.cultivatesewardcounty.com/events/details/open-house-for-guild-of-natural-science-illustrators-11-09-2013-3345
END:VEVENT

END:VCALENDAR
