BEGIN:VCALENDAR
VERSION:2.0
PRODID:-//ChamberMaster//Event Calendar 2.0//EN
METHOD:PUBLISH
X-PUBLISHED-TTL:P3D
REFRESH-INTERVAL:P3D
CALSCALE:GREGORIAN
BEGIN:VEVENT
DTSTART:20120411T213000Z
DTEND:20120412T000000Z
X-MICROSOFT-CDO-ALLDAYEVENT:FALSE
SUMMARY:OPEN HOUSE FOR DORRIS MARXHAUSEN
DESCRIPTION:The Seward County League of Women Voters invites you to join us for an Open House for our long-time friend and colleague\, Dorris Marxhausen\, Seward citizen extraordinaire\, to honor the many and significant contributions and years of service she has given to the Seward community.
X-ALT-DESC;FMTTYPE=text/html:The Seward County League of Women Voters invites you to join us for an Open House for our long-time friend and colleague\, Dorris Marxhausen\, Seward citizen extraordinaire\, to honor the many and significant contributions and years of service she has given to the Seward community.
LOCATION:Seward Civic Center\, 616 Bradford St.\, Seward\, NE 68434 in the West Fireplace Room
UID:e.865.1383
SEQUENCE:3
DTSTAMP:20260422T201230Z
URL:https://business.cultivatesewardcounty.com/events/details/open-house-for-dorris-marxhausen-04-11-2012-1383
END:VEVENT

END:VCALENDAR
