BEGIN:VCALENDAR
VERSION:2.0
PRODID:-//ChamberMaster//Event Calendar 2.0//EN
METHOD:PUBLISH
X-PUBLISHED-TTL:P3D
REFRESH-INTERVAL:P3D
CALSCALE:GREGORIAN
BEGIN:VEVENT
DTSTART:20130816T210000Z
DTEND:20130817T010000Z
X-MICROSOFT-CDO-ALLDAYEVENT:FALSE
SUMMARY:Olde Glory Theater and Community Hall Open House
DESCRIPTION:Olde Glory Theater and Community Hall Open House  -  Visit the former Presbyterian Church\, recently purchased by the Chamber\, to learn about the future plans for this beautiful historical building while enjoying some great refreshments. \n\n\n\nwww.sewardne.com
X-ALT-DESC;FMTTYPE=text/html:Olde Glory Theater and Community Hall Open House&nbsp\; -&nbsp\; Visit the former Presbyterian Church\, recently&nbsp\;purchased by the Chamber\, to learn about the future plans for this beautiful historical building while enjoying some great refreshments.&nbsp\;<br />\n<br />\n<a href="http://www.sewardne.com">www.sewardne.com</a>
LOCATION:Olde Glory Theater and Community Hall 346 Jackson 4th & Jackson Sts. Seward\, NE
UID:e.865.2877
SEQUENCE:3
DTSTAMP:20260421T214506Z
URL:https://business.cultivatesewardcounty.com/events/details/olde-glory-theater-and-community-hall-open-house-08-16-2013-2877
END:VEVENT

END:VCALENDAR
