BEGIN:VCALENDAR
VERSION:2.0
PRODID:-//ChamberMaster//Event Calendar 2.0//EN
METHOD:PUBLISH
X-PUBLISHED-TTL:P3D
REFRESH-INTERVAL:P3D
CALSCALE:GREGORIAN
BEGIN:VEVENT
DTSTART:20140304T150000Z
DTEND:20140304T160000Z
X-MICROSOFT-CDO-ALLDAYEVENT:FALSE
SUMMARY:Olde Glory Council Meeting
DESCRIPTION:Olde Glory Council Meeting
X-ALT-DESC;FMTTYPE=text/html:Olde Glory Council Meeting
LOCATION:Civic Center 616 Bradford St. Seward\, NE
UID:e.865.3554
SEQUENCE:3
DTSTAMP:20260421T130048Z
URL:https://business.cultivatesewardcounty.com/events/details/olde-glory-council-meeting-03-04-2014-3554
END:VEVENT

END:VCALENDAR
