BEGIN:VCALENDAR
VERSION:2.0
PRODID:-//ChamberMaster//Event Calendar 2.0//EN
METHOD:PUBLISH
X-PUBLISHED-TTL:P3D
REFRESH-INTERVAL:P3D
CALSCALE:GREGORIAN
BEGIN:VEVENT
DTSTART:20131024T233000Z
DTEND:20131025T010000Z
X-MICROSOFT-CDO-ALLDAYEVENT:FALSE
SUMMARY:Oktober Fest
DESCRIPTION:Oktober Fest  -  Face painting\, balloon animals\, bouncy house\, games\, activities and snacks  -  Free event.
X-ALT-DESC;FMTTYPE=text/html:Oktober Fest&nbsp\; -&nbsp\; Face painting\, balloon animals\, bouncy house\, games\, activities and snacks&nbsp\; -&nbsp\; Free event.
LOCATION:Ridgewood West Building 446 Pinewood Avenue Seward\, NE
UID:e.865.3414
SEQUENCE:3
DTSTAMP:20260421T192243Z
URL:https://business.cultivatesewardcounty.com/events/details/oktober-fest-10-24-2013-3414
END:VEVENT

END:VCALENDAR
