BEGIN:VCALENDAR
VERSION:2.0
PRODID:-//ChamberMaster//Event Calendar 2.0//EN
METHOD:PUBLISH
X-PUBLISHED-TTL:P3D
REFRESH-INTERVAL:P3D
CALSCALE:GREGORIAN
BEGIN:VEVENT
DTSTART:20110921T170000Z
DTEND:20110921T180000Z
X-MICROSOFT-CDO-ALLDAYEVENT:FALSE
SUMMARY:Noon Lunch & Learn - Seward Family Medical Center
DESCRIPTION:Noon Lunch and Learn Seward Family Medical Center presents "Common Hand Disorders" with Nicolas Gove\, MD.
X-ALT-DESC;FMTTYPE=text/html:Noon Lunch and Learn Seward Family Medical Center presents &quot\;Common Hand Disorders&quot\; with Nicolas Gove\, MD.
LOCATION:Seward Family Medical Center Lower Level Conference Room 300 N. Columbia Ave.\, Seward\, NE 68434
UID:e.865.1144
SEQUENCE:3
DTSTAMP:20260424T172240Z
URL:https://business.cultivatesewardcounty.com/events/details/noon-lunch-learn-seward-family-medical-center-09-21-2011-1144
END:VEVENT

END:VCALENDAR
