BEGIN:VCALENDAR
VERSION:2.0
PRODID:-//ChamberMaster//Event Calendar 2.0//EN
METHOD:PUBLISH
X-PUBLISHED-TTL:P3D
REFRESH-INTERVAL:P3D
CALSCALE:GREGORIAN
BEGIN:VEVENT
DTSTART;VALUE=DATE:20110827
DTEND;VALUE=DATE:20110828
TRANSP:TRANSPARENT
X-MICROSOFT-CDO-ALLDAYEVENT:TRUE
SUMMARY:Nebraska State Fair
DESCRIPTION:Nebraska State Fair
X-ALT-DESC;FMTTYPE=text/html:Nebraska State Fair
LOCATION:Nebraska State Fairgrounds - Grand Island\, NE
UID:e.865.1052
SEQUENCE:3
DTSTAMP:20260424T184739Z
URL:https://business.cultivatesewardcounty.com/events/details/nebraska-state-fair-08-27-2011-1052
END:VEVENT

END:VCALENDAR
