BEGIN:VCALENDAR
VERSION:2.0
PRODID:-//ChamberMaster//Event Calendar 2.0//EN
METHOD:PUBLISH
X-PUBLISHED-TTL:P3D
REFRESH-INTERVAL:P3D
CALSCALE:GREGORIAN
BEGIN:VEVENT
DTSTART:20130418T140000Z
DTEND:20130428T220000Z
X-MICROSOFT-CDO-ALLDAYEVENT:FALSE
SUMMARY:Nebraska Shop Hop
DESCRIPTION:Nebraska\;s 15th Annual"Border to Border" Shop Hop.  The Udder Store in Seward\, along with 38 other independent fabric stores around Nebraska\, will be participating.  At every shop you visit during this Shop Hop you will receive a free pattern.  Everyone who visits 1 or MORE shops is eligible to win a $25 certificate.
X-ALT-DESC;FMTTYPE=text/html:Nebraska\;s 15th Annual&quot\;Border to Border&quot\;&nbsp\;Shop Hop.&nbsp\; The Udder Store in Seward\, along with 38 other independent fabric stores around Nebraska\, will be participating.&nbsp\; At every shop you visit during this Shop Hop you will receive a free pattern.&nbsp\; Everyone who visits 1 or MORE shops is eligible to win a $25 certificate.
LOCATION:Various independent fabric stores across the state of Nebraska
UID:e.865.1934
SEQUENCE:3
DTSTAMP:20260422T031656Z
URL:https://business.cultivatesewardcounty.com/events/details/nebraska-shop-hop-04-18-2013-1934
END:VEVENT

END:VCALENDAR
