BEGIN:VCALENDAR
VERSION:2.0
PRODID:-//ChamberMaster//Event Calendar 2.0//EN
METHOD:PUBLISH
X-PUBLISHED-TTL:P3D
REFRESH-INTERVAL:P3D
CALSCALE:GREGORIAN
BEGIN:VEVENT
DTSTART:20130817T140000Z
DTEND:20130817T220000Z
X-MICROSOFT-CDO-ALLDAYEVENT:FALSE
SUMMARY:Nebraska Artifact Show
DESCRIPTION:9th Annual Nebraska Artifact Show - world-class displays of prehistoric stone arifactst from the Great Plains Region.  Bring the family\, concessions available.\n\n\n\nhttp://sites.google.com/site/webnas
X-ALT-DESC;FMTTYPE=text/html:9th Annual Nebraska Artifact Show - world-class displays of prehistoric stone arifactst from the Great Plains Region.&nbsp\; Bring the family\, concessions available.<br />\n<br />\n<a href="http://sites.google.com/site/webnas">http://sites.google.com/site/webnas</a>
LOCATION:Seward County Fairgrounds - Harvest Hall 500 North 14th St. Seward\, NE
UID:e.865.2838
SEQUENCE:3
DTSTAMP:20260421T214153Z
URL:https://business.cultivatesewardcounty.com/events/details/nebraska-artifact-show-08-17-2013-2838
END:VEVENT

END:VCALENDAR
