BEGIN:VCALENDAR
VERSION:2.0
PRODID:-//ChamberMaster//Event Calendar 2.0//EN
METHOD:PUBLISH
X-PUBLISHED-TTL:P3D
REFRESH-INTERVAL:P3D
CALSCALE:GREGORIAN
BEGIN:VEVENT
DTSTART:20110505T170000Z
DTEND:20110505T180000Z
X-MICROSOFT-CDO-ALLDAYEVENT:FALSE
SUMMARY:National Day of Prayer Luncheon
DESCRIPTION:Seward's National Day of Prayer Luncheon with speaker\, Mayor Josh Eickmeier\n\n\n\nSponsored by the Seward Rotary\, Seward Ministerial Association and GFWC Woman's Club.\n\n\n\nTickets are $5.00 in advance and $7.50 at the door are are available at the Chamber of Commerce office\, 616 Bradford St.\, Seward\, NE  68434
X-ALT-DESC;FMTTYPE=text/html:Seward&#39\;s National Day of Prayer Luncheon with speaker\, Mayor Josh Eickmeier<br />\n<br />\nSponsored by the Seward Rotary\, Seward Ministerial Association and GFWC Woman&#39\;s Club.<br />\n<br />\nTickets are $5.00 in advance and $7.50 at the door are are available at the Chamber of Commerce office\, 616 Bradford St.\, Seward\, NE&nbsp\; 68434
LOCATION:Seward Civic Center\, 616 Bradford St.\, Seward\, NE 68434
UID:e.865.1083
SEQUENCE:3
DTSTAMP:20260424T231633Z
URL:https://business.cultivatesewardcounty.com/events/details/national-day-of-prayer-luncheon-05-05-2011-1083
END:VEVENT

END:VCALENDAR
