BEGIN:VCALENDAR
VERSION:2.0
PRODID:-//ChamberMaster//Event Calendar 2.0//EN
METHOD:PUBLISH
X-PUBLISHED-TTL:P3D
REFRESH-INTERVAL:P3D
CALSCALE:GREGORIAN
BEGIN:VEVENT
DTSTART:20121027T000000Z
DTEND:20121027T020000Z
X-MICROSOFT-CDO-ALLDAYEVENT:FALSE
SUMMARY:Musical Arts Day Concert
DESCRIPTION:At the end of a day spent with Concordia's music department students and staff\, high school honor choir and band members will perform in a concert alongside Concordia's A Cappella Choir and University Symphonic Band.
X-ALT-DESC;FMTTYPE=text/html:At the end of a day spent with Concordia&rsquo\;s music department students and staff\, high school honor choir and band members will perform in a concert alongside Concordia&rsquo\;s A Cappella Choir and University Symphonic Band.
LOCATION:Walz Arena\, Concordia University
UID:e.865.1718
SEQUENCE:3
DTSTAMP:20260422T113205Z
URL:https://business.cultivatesewardcounty.com/events/details/musical-arts-day-concert-10-26-2012-1718
END:VEVENT

END:VCALENDAR
