BEGIN:VCALENDAR
VERSION:2.0
PRODID:-//ChamberMaster//Event Calendar 2.0//EN
METHOD:PUBLISH
X-PUBLISHED-TTL:P3D
REFRESH-INTERVAL:P3D
CALSCALE:GREGORIAN
BEGIN:VEVENT
DTSTART:20140201T230000Z
DTEND:20140202T030000Z
X-MICROSOFT-CDO-ALLDAYEVENT:FALSE
SUMMARY:Murder Mystery Dinner Theater
DESCRIPTION:Murder Mystery Dinner Theater  -  "Who Killed Kitty the Cake Lady"  - local celebrities include Alan Baldwin\, Clark Kolterman and Kitty Vacha. \n\n\n\nLive and silent auction
X-ALT-DESC;FMTTYPE=text/html:Murder Mystery Dinner Theater&nbsp\; -&nbsp\; &quot\;Who Killed Kitty the Cake Lady&quot\;&nbsp\; - local celebrities include Alan Baldwin\, Clark Kolterman and Kitty Vacha.&nbsp\;<br />\n<br />\nLive and silent auction
LOCATION:Concordia University Cattle Room 800 North Columbia Seward\, NE
UID:e.865.3467
SEQUENCE:3
DTSTAMP:20260421T141943Z
URL:https://business.cultivatesewardcounty.com/events/details/murder-mystery-dinner-theater-02-01-2014-3467
END:VEVENT

END:VCALENDAR
