BEGIN:VCALENDAR
VERSION:2.0
PRODID:-//ChamberMaster//Event Calendar 2.0//EN
METHOD:PUBLISH
X-PUBLISHED-TTL:P3D
REFRESH-INTERVAL:P3D
CALSCALE:GREGORIAN
BEGIN:VEVENT
DTSTART:20130716T000000Z
DTEND:20130716T010000Z
X-MICROSOFT-CDO-ALLDAYEVENT:FALSE
SUMMARY:Mr. Billy Concert
DESCRIPTION:Mr. Billy Concert:  family entertainment featuring high energy songs and interactive humor.\n\n\n\nwww.sewardlibrary.org
X-ALT-DESC;FMTTYPE=text/html:Mr. Billy Concert:&nbsp\; family entertainment featuring high energy songs and interactive humor.<br />\n<br />\n<a href="http://www.sewardlibrary.org">www.sewardlibrary.org</a>
LOCATION:Seward Bandshell Corner of 5th St. & Jackson Avenue Seward\, NE
UID:e.865.2840
SEQUENCE:3
DTSTAMP:20260421T230850Z
URL:https://business.cultivatesewardcounty.com/events/details/mr-billy-concert-07-15-2013-2840
END:VEVENT

END:VCALENDAR
