BEGIN:VCALENDAR
VERSION:2.0
PRODID:-//ChamberMaster//Event Calendar 2.0//EN
METHOD:PUBLISH
X-PUBLISHED-TTL:P3D
REFRESH-INTERVAL:P3D
CALSCALE:GREGORIAN
BEGIN:VEVENT
DTSTART:20130913T153000Z
DTEND:20130913T163000Z
X-MICROSOFT-CDO-ALLDAYEVENT:FALSE
SUMMARY:Modern Hearing Solutions at GREENE HOUSE
DESCRIPTION:Join us as Joshua Beach informs us on the latest in hearing devices.
X-ALT-DESC;FMTTYPE=text/html:Join us as Joshua Beach informs us on the latest in hearing devices.
LOCATION:600 Church Street Seward\, NE 68434
UID:e.865.3246
SEQUENCE:3
DTSTAMP:20260421T203146Z
URL:https://business.cultivatesewardcounty.com/events/details/modern-hearing-solutions-at-greene-house-09-13-2013-3246
END:VEVENT

END:VCALENDAR
