BEGIN:VCALENDAR
VERSION:2.0
PRODID:-//ChamberMaster//Event Calendar 2.0//EN
METHOD:PUBLISH
X-PUBLISHED-TTL:P3D
REFRESH-INTERVAL:P3D
CALSCALE:GREGORIAN
BEGIN:VEVENT
DTSTART:20120116T160000Z
DTEND:20120116T180000Z
X-MICROSOFT-CDO-ALLDAYEVENT:FALSE
SUMMARY:MKL Jr. Program at Concordia University
DESCRIPTION:Martin Luther King Jr.\, Program featuring guest speaker\, Reverand Victor Belton
X-ALT-DESC;FMTTYPE=text/html:Martin Luther King Jr.\, Program featuring guest speaker\, Reverand Victor Belton
LOCATION:Weller Hall - Concordia University - Seward 800 N. Columbia Ave.\, Seward\, NE
UID:e.865.1199
SEQUENCE:3
DTSTAMP:20260424T111551Z
URL:https://business.cultivatesewardcounty.com/events/details/mkl-jr-program-at-concordia-university-01-16-2012-1199
END:VEVENT

END:VCALENDAR
