BEGIN:VCALENDAR
VERSION:2.0
PRODID:-//ChamberMaster//Event Calendar 2.0//EN
METHOD:PUBLISH
X-PUBLISHED-TTL:P3D
REFRESH-INTERVAL:P3D
CALSCALE:GREGORIAN
BEGIN:VEVENT
DTSTART:20140118T233000Z
DTEND:20140119T040000Z
X-MICROSOFT-CDO-ALLDAYEVENT:FALSE
SUMMARY:Miller Lite Boxing Championships
DESCRIPTION:Miller Lite Boxing Championships  -  One of the largest amateur boxing events in Nebraska in 15 years.  A portion of the proceeds will be donated to non-profit boxing gyms in Nebraska.  Some of the participants include Oliver Rivera\, 3 time Midwest Golden Gloves Champion\, Dylan Henry\, 4 time Midwest Golden Gloves Champion and Raymond Bernt\, 2 time Midwest Golden Gloves Champion.
X-ALT-DESC;FMTTYPE=text/html:Miller Lite Boxing Championships&nbsp\; -&nbsp\; One of the largest amateur boxing events in Nebraska in 15 years.&nbsp\; A portion of the proceeds will be donated to non-profit boxing gyms in Nebraska.&nbsp\; Some of the participants include Oliver Rivera\, 3 time Midwest Golden Gloves Champion\, Dylan Henry\, 4 time Midwest Golden Gloves Champion and Raymond Bernt\, 2 time Midwest Golden Gloves Champion.
LOCATION:Seward County Fairgrounds - Ag Pavilion 500 North 14th St. Seward\, NE
UID:e.865.3437
SEQUENCE:3
DTSTAMP:20260421T153323Z
URL:https://business.cultivatesewardcounty.com/events/details/miller-lite-boxing-championships-01-18-2014-3437
END:VEVENT

END:VCALENDAR
