BEGIN:VCALENDAR
VERSION:2.0
PRODID:-//ChamberMaster//Event Calendar 2.0//EN
METHOD:PUBLISH
X-PUBLISHED-TTL:P3D
REFRESH-INTERVAL:P3D
CALSCALE:GREGORIAN
BEGIN:VEVENT
DTSTART:20110729T000000Z
DTEND:20110729T010000Z
X-MICROSOFT-CDO-ALLDAYEVENT:FALSE
SUMMARY:Mike Mennard with Music and Poetry
DESCRIPTION:The talented children's recording artist and author\, Mike Mennard\, will perform a program of music and poetry at the Seward Bandshell as the finale for the 2011 Seward Memorial Library Children's Summer Reading program.  This event is made possible with the support of the Nebraska Arts Council and the Nebraska Cultural Endowment as well as the support of Runza National. \n\n\n\nIn case of rain\, Mike will perform at the Seward Civic Center Auditorium.
X-ALT-DESC;FMTTYPE=text/html:The talented children&#39\;s recording artist and author\, Mike Mennard\, will perform a program of music and poetry at the Seward Bandshell as the finale for the 2011 Seward Memorial Library Children&#39\;s Summer Reading program.&nbsp\; This event is made possible with the support of the Nebraska Arts Council and the Nebraska Cultural Endowment as well as the support of Runza National.&nbsp\;<br />\n<br />\nIn case of rain\, Mike will perform at the Seward Civic Center Auditorium.
LOCATION:Seward Bandshell In case of rain\, Seward Civic Center\, 616 Bradford
UID:e.865.1123
SEQUENCE:3
DTSTAMP:20260424T202935Z
URL:https://business.cultivatesewardcounty.com/events/details/mike-mennard-with-music-and-poetry-07-28-2011-1123
END:VEVENT

END:VCALENDAR
