BEGIN:VCALENDAR
VERSION:2.0
PRODID:-//ChamberMaster//Event Calendar 2.0//EN
METHOD:PUBLISH
X-PUBLISHED-TTL:P3D
REFRESH-INTERVAL:P3D
CALSCALE:GREGORIAN
BEGIN:VEVENT
DTSTART:20110504T200000Z
DTEND:20110504T220000Z
X-MICROSOFT-CDO-ALLDAYEVENT:FALSE
SUMMARY:Mike Bacon @ Seward Memorial Library
DESCRIPTION:Attorney Mike Bacon from Gothenburg\, NE will join us Wed. May 4thfrom 3:00 p.m. to 5:00 p.m. at the Seward Memorial Library for a Round Table Discussion on Tax Increment Financing and the use of LB840 tax funds set aside for Economic Development.\n\n \n\nMike maintains a state wide practice focused on tax increment financing and business and economic development.  He has consulted on more than one hundred forty tax increment financing projects in more than 40 Nebraska communities.\n\n \n\nMike is past president of the Nebraska Diplomats.  Currently he is president of the Gothenburg Improvement Company\, chairman of the Dawson County Area Development board\, and sits on the board of a number of for profit and non-profit corporations.\n\n \n\nAfter researching and attending implementation of these laws Mike enjoys discussing the various opportunities available.    We hope to see you there.
X-ALT-DESC;FMTTYPE=text/html:<span style="font-size: 12px">Attorney Mike Bacon from Gothenburg\, NE will join us Wed. May 4<sup>th</sup>from 3:00 p.m. to 5:00 p.m. at the Seward Memorial Library for a Round Table Discussion on Tax Increment Financing and the use of LB840 tax funds set aside for Economic Development.<br />\n&nbsp\;<br />\nMike maintains a state wide practice focused on tax increment financing and business and economic development.&nbsp\; He has consulted on more than one hundred forty tax increment financing projects in more than 40 Nebraska communities.<br />\n&nbsp\;<br />\nMike is past president of the Nebraska Diplomats.&nbsp\; Currently he is president of the Gothenburg Improvement Company\, chairman of the Dawson County Area Development board\, and sits on the board of a number of for profit and non-profit corporations.<br />\n&nbsp\;<br />\nAfter researching and attending implementation of these laws Mike enjoys discussing the various opportunities available.&nbsp\;&nbsp\;&nbsp\; We hope to see you there.&nbsp\;</span><br />\n
LOCATION:Seward Memorial Library\, 233 S. 5th St.\, Seward\, NE 68434
UID:e.865.1082
SEQUENCE:3
DTSTAMP:20260425T004241Z
URL:https://business.cultivatesewardcounty.com/events/details/mike-bacon-seward-memorial-library-05-04-2011-1082
END:VEVENT

END:VCALENDAR
