BEGIN:VCALENDAR
VERSION:2.0
PRODID:-//ChamberMaster//Event Calendar 2.0//EN
METHOD:PUBLISH
X-PUBLISHED-TTL:P3D
REFRESH-INTERVAL:P3D
CALSCALE:GREGORIAN
BEGIN:VEVENT
DTSTART:20111019T000000Z
DTEND:20111019T010000Z
X-MICROSOFT-CDO-ALLDAYEVENT:FALSE
SUMMARY:MHCS Diabetic Support Group
DESCRIPTION:Memorial Health Care Systems Diabetic Support Group will meet with guest speaker Joan Gloystein RD\, LMNT talking about Diabetic Food Choices - Comparing the Diabetic Plate adn the new USDA MY Plate.
X-ALT-DESC;FMTTYPE=text/html:Memorial Health Care Systems Diabetic Support Group will meet with guest speaker Joan Gloystein RD\, LMNT talking about Diabetic Food Choices - Comparing the Diabetic Plate adn the new USDA MY Plate.
LOCATION:Seward Family Medical Center Lower Level Conference Room 300 N. Columbia Ave.\, Seward\, NE 68434
UID:e.865.1147
SEQUENCE:3
DTSTAMP:20260424T154531Z
URL:https://business.cultivatesewardcounty.com/events/details/mhcs-diabetic-support-group-10-18-2011-1147
END:VEVENT

END:VCALENDAR
