BEGIN:VCALENDAR
VERSION:2.0
PRODID:-//ChamberMaster//Event Calendar 2.0//EN
METHOD:PUBLISH
X-PUBLISHED-TTL:P3D
REFRESH-INTERVAL:P3D
CALSCALE:GREGORIAN
BEGIN:VEVENT
DTSTART:20110817T000000Z
DTEND:20110817T010000Z
X-MICROSOFT-CDO-ALLDAYEVENT:FALSE
SUMMARY:MHCS Diabetic Support Group
DESCRIPTION:Diabetic Food Choices - Comparing the Diabetic Plate and the new USDA My Plate. \n\nSpeaker Joan Gloystein RD\, LMNT.
X-ALT-DESC;FMTTYPE=text/html:Diabetic Food Choices - Comparing the Diabetic Plate and the new USDA My Plate.&nbsp\;<br />\nSpeaker Joan Gloystein RD\, LMNT.&nbsp\;
LOCATION:Seward Family Medical Center Lower Level Conference Room
UID:e.865.1129
SEQUENCE:3
DTSTAMP:20260424T184636Z
URL:https://business.cultivatesewardcounty.com/events/details/mhcs-diabetic-support-group-08-16-2011-1129
END:VEVENT

END:VCALENDAR
