BEGIN:VCALENDAR
VERSION:2.0
PRODID:-//ChamberMaster//Event Calendar 2.0//EN
METHOD:PUBLISH
X-PUBLISHED-TTL:P3D
REFRESH-INTERVAL:P3D
CALSCALE:GREGORIAN
BEGIN:VEVENT
DTSTART:20110720T000000Z
DTEND:20110720T010000Z
X-MICROSOFT-CDO-ALLDAYEVENT:FALSE
SUMMARY:MHCS Diabetic Support Group
DESCRIPTION:Memorial Health Care Systems hosts a Diabetic Support Group.  Speaker will be Michelle Barak\, RN and her topic is Foot and Wound Care.
X-ALT-DESC;FMTTYPE=text/html:Memorial Health Care Systems hosts a Diabetic Support Group.&nbsp\; Speaker will be Michelle Barak\, RN and her topic is Foot and Wound Care.
LOCATION:Seward Family Medical Center 300 N. Columbia Ave.\, Seward\, NE Lower Level Conference Room
UID:e.865.1101
SEQUENCE:3
DTSTAMP:20260424T202227Z
URL:https://business.cultivatesewardcounty.com/events/details/mhcs-diabetic-support-group-07-19-2011-1101
END:VEVENT

END:VCALENDAR
