BEGIN:VCALENDAR
VERSION:2.0
PRODID:-//ChamberMaster//Event Calendar 2.0//EN
METHOD:PUBLISH
X-PUBLISHED-TTL:P3D
REFRESH-INTERVAL:P3D
CALSCALE:GREGORIAN
BEGIN:VEVENT
DTSTART:20110622T000000Z
DTEND:20110622T010000Z
X-MICROSOFT-CDO-ALLDAYEVENT:FALSE
SUMMARY:MHCS Diabetic Support Group
DESCRIPTION:Memorial Health Care Systems hosts a Diabetic Support Group.  The speaker is Bob Ten Bensel from MHCS Physical Therapy Department.  His topic is the health benefits of Tai Chi.
X-ALT-DESC;FMTTYPE=text/html:Memorial Health Care Systems hosts a Diabetic Support Group.&nbsp\; The speaker is Bob Ten Bensel from MHCS Physical Therapy Department.&nbsp\; His topic is the health benefits of Tai Chi.
LOCATION:Seward Family Medical Center 300 N. Columbia Ave\, Seward\, NE Lower Level Conference Room
UID:e.865.1100
SEQUENCE:3
DTSTAMP:20260424T215609Z
URL:https://business.cultivatesewardcounty.com/events/details/mhcs-diabetic-support-group-06-21-2011-1100
END:VEVENT

END:VCALENDAR
