BEGIN:VCALENDAR
VERSION:2.0
PRODID:-//ChamberMaster//Event Calendar 2.0//EN
METHOD:PUBLISH
X-PUBLISHED-TTL:P3D
REFRESH-INTERVAL:P3D
CALSCALE:GREGORIAN
BEGIN:VEVENT
DTSTART;VALUE=DATE:20110811
DTEND;VALUE=DATE:20110815
TRANSP:TRANSPARENT
X-MICROSOFT-CDO-ALLDAYEVENT:TRUE
SUMMARY:MHCS Booth at the Seward County Fair
DESCRIPTION:Free blood pressures.
X-ALT-DESC;FMTTYPE=text/html:Free blood pressures.&nbsp\; 
LOCATION:
UID:e.865.1128
SEQUENCE:3
DTSTAMP:20260424T185115Z
URL:https://business.cultivatesewardcounty.com/events/details/mhcs-booth-at-the-seward-county-fair-08-11-2011-1128
END:VEVENT

END:VCALENDAR
