BEGIN:VCALENDAR
VERSION:2.0
PRODID:-//ChamberMaster//Event Calendar 2.0//EN
METHOD:PUBLISH
X-PUBLISHED-TTL:P3D
REFRESH-INTERVAL:P3D
CALSCALE:GREGORIAN
BEGIN:VEVENT
DTSTART:20111007T150000Z
DTEND:20111007T210000Z
X-MICROSOFT-CDO-ALLDAYEVENT:FALSE
SUMMARY:MHCS Auxiliary Fall Bazaar
DESCRIPTION:Memorial Health Care Systems Auxiliary Fall Bazaar with Fall and Christmas craft items\, gifts and baked goods.  All proceeds benefit MHCS.
X-ALT-DESC;FMTTYPE=text/html:Memorial Health Care Systems Auxiliary Fall Bazaar with Fall and Christmas craft items\, gifts and baked goods.&nbsp\; All proceeds benefit MHCS.
LOCATION:Seward Family Medical Center Lower Level Conference Room 300 N. Columbia Ave.\, Seward\, NE 68434
UID:e.865.1146
SEQUENCE:3
DTSTAMP:20260424T154533Z
URL:https://business.cultivatesewardcounty.com/events/details/mhcs-auxiliary-fall-bazaar-10-07-2011-1146
END:VEVENT

END:VCALENDAR
