BEGIN:VCALENDAR
VERSION:2.0
PRODID:-//ChamberMaster//Event Calendar 2.0//EN
METHOD:PUBLISH
X-PUBLISHED-TTL:P3D
REFRESH-INTERVAL:P3D
CALSCALE:GREGORIAN
BEGIN:VEVENT
DTSTART:20111006T150000Z
DTEND:20111006T230000Z
X-MICROSOFT-CDO-ALLDAYEVENT:FALSE
SUMMARY:MHCS Auxiliary Fall Bazaar
DESCRIPTION:Memorial Health Care Systems Auxiliary Fall Bazaar with Fall and Christmas craft items\, gifts and baked goods.  All proceeds benefit MHCS.
X-ALT-DESC;FMTTYPE=text/html:Memorial Health Care Systems Auxiliary Fall Bazaar with Fall and Christmas craft items\, gifts and baked goods.&nbsp\; All proceeds benefit MHCS.
LOCATION:Seward Family Medical Center Lower Level Conferene Room 300 N. Columbia Ave.\, Seward\, NE 68434
UID:e.865.1145
SEQUENCE:3
DTSTAMP:20260424T154451Z
URL:https://business.cultivatesewardcounty.com/events/details/mhcs-auxiliary-fall-bazaar-10-06-2011-1145
END:VEVENT

END:VCALENDAR
