BEGIN:VCALENDAR
VERSION:2.0
PRODID:-//ChamberMaster//Event Calendar 2.0//EN
METHOD:PUBLISH
X-PUBLISHED-TTL:P3D
REFRESH-INTERVAL:P3D
CALSCALE:GREGORIAN
BEGIN:VEVENT
DTSTART:20130911T190000Z
DTEND:20130911T200000Z
X-MICROSOFT-CDO-ALLDAYEVENT:FALSE
SUMMARY:Mental Aerobics at GREENE HOUSE
DESCRIPTION:Tracey Foreman of Aging Partners will offer some tried and true techniques that can improve thinking skills and increase memory.
X-ALT-DESC;FMTTYPE=text/html:Tracey Foreman of Aging Partners will offer some tried and true techniques that can improve thinking skills and increase memory.
LOCATION:Greene House 600 Church Street Seward\, NE 68434
UID:e.865.3244
SEQUENCE:3
DTSTAMP:20260421T204704Z
URL:https://business.cultivatesewardcounty.com/events/details/mental-aerobics-at-greene-house-09-11-2013-3244
END:VEVENT

END:VCALENDAR
