BEGIN:VCALENDAR
VERSION:2.0
PRODID:-//ChamberMaster//Event Calendar 2.0//EN
METHOD:PUBLISH
X-PUBLISHED-TTL:P3D
REFRESH-INTERVAL:P3D
CALSCALE:GREGORIAN
BEGIN:VEVENT
DTSTART:20120210T180000Z
DTEND:20120210T190000Z
X-MICROSOFT-CDO-ALLDAYEVENT:FALSE
SUMMARY:Membership Luncheon with Senator Adams
DESCRIPTION:Senator Greg Adams will be our speaker for the monthly Chamber Membership Luncheon.  He will bring us a Legislative Update and answer any questions you may have.
X-ALT-DESC;FMTTYPE=text/html:Senator Greg Adams will be our speaker for the monthly Chamber Membership Luncheon.&nbsp\; He will bring us a Legislative Update and answer any questions you may have.
LOCATION:Seward Civic Center 616 Bradford St. Seward\, NE 68434 Lower Level Banquet Room
UID:e.865.1358
SEQUENCE:3
DTSTAMP:20260424T095902Z
URL:https://business.cultivatesewardcounty.com/events/details/membership-luncheon-with-senator-adams-02-10-2012-1358
END:VEVENT

END:VCALENDAR
