BEGIN:VCALENDAR
VERSION:2.0
PRODID:-//ChamberMaster//Event Calendar 2.0//EN
METHOD:PUBLISH
X-PUBLISHED-TTL:P3D
REFRESH-INTERVAL:P3D
CALSCALE:GREGORIAN
BEGIN:VEVENT
DTSTART:20130806T170000Z
DTEND:20130806T180000Z
X-MICROSOFT-CDO-ALLDAYEVENT:FALSE
SUMMARY:Membership Luncheon - August 6\, 2013
DESCRIPTION:Join us to hear speaker Time Keelan of Hanna Keelan Assoc. Community Planning & Research speak about a new county-wide housing study. This study is important in creating new housing opportunities for Seward county citizens. Meal catered by Sam & Louie's.
X-ALT-DESC;FMTTYPE=text/html:Join us to hear speaker Time Keelan of Hanna Keelan Assoc. Community Planning &amp\; Research speak about a new county-wide housing study. This study is important in creating new housing opportunities for Seward county citizens. Meal catered by Sam &amp\; Louie&#39\;s. 
LOCATION:Civic Center\, 616 Bradford Street
UID:e.865.2875
SEQUENCE:3
DTSTAMP:20260421T214225Z
URL:https://business.cultivatesewardcounty.com/events/details/membership-luncheon-august-6-2013-08-06-2013-2875
END:VEVENT

END:VCALENDAR
