BEGIN:VCALENDAR
VERSION:2.0
PRODID:-//ChamberMaster//Event Calendar 2.0//EN
METHOD:PUBLISH
X-PUBLISHED-TTL:P3D
REFRESH-INTERVAL:P3D
CALSCALE:GREGORIAN
BEGIN:VEVENT
DTSTART:20130611T170000Z
DTEND:20130611T180000Z
X-MICROSOFT-CDO-ALLDAYEVENT:FALSE
SUMMARY:Membership Luncheon - 4th of July Kickoff
DESCRIPTION:Join the Chamber for the annual 4th of July Kick-off Luncheon and hear highlights of this years celebration.
X-ALT-DESC;FMTTYPE=text/html:Join the Chamber for the annual 4th of July Kick-off Luncheon and hear highlights of this years celebration. 
LOCATION:Civic Center Basement
UID:e.865.2282
SEQUENCE:3
DTSTAMP:20260422T003147Z
URL:https://business.cultivatesewardcounty.com/events/details/membership-luncheon-4th-of-july-kickoff-06-11-2013-2282
END:VEVENT

END:VCALENDAR
