BEGIN:VCALENDAR
VERSION:2.0
PRODID:-//ChamberMaster//Event Calendar 2.0//EN
METHOD:PUBLISH
X-PUBLISHED-TTL:P3D
REFRESH-INTERVAL:P3D
CALSCALE:GREGORIAN
BEGIN:VEVENT
DTSTART:20121113T180000Z
DTEND:20121113T190000Z
X-MICROSOFT-CDO-ALLDAYEVENT:FALSE
SUMMARY:Membership Luncheon - 11/13/2012
DESCRIPTION:Mark your calendar for one of the best Membership Luncheons of the year!  Join us as we review the Christmas activities and introduce the Grand Marshall of the parade. The new Seward Christmas ornament will be available.
X-ALT-DESC;FMTTYPE=text/html:Mark your calendar for one of the best Membership Luncheons of the year!&nbsp\; Join us as we review the Christmas activities and introduce the Grand Marshall of the parade. The new Seward Christmas ornament will be available. 
LOCATION:Civic Center - Lower Level
UID:e.865.1735
SEQUENCE:3
DTSTAMP:20260422T100900Z
URL:https://business.cultivatesewardcounty.com/events/details/membership-luncheon-11-13-2012-11-13-2012-1735
END:VEVENT

END:VCALENDAR
