BEGIN:VCALENDAR
VERSION:2.0
PRODID:-//ChamberMaster//Event Calendar 2.0//EN
METHOD:PUBLISH
X-PUBLISHED-TTL:P3D
REFRESH-INTERVAL:P3D
CALSCALE:GREGORIAN
BEGIN:VEVENT
DTSTART:20111028T143000Z
DTEND:20111028T203000Z
X-MICROSOFT-CDO-ALLDAYEVENT:FALSE
SUMMARY:Medicare Prescription Drug Benefit Enrollment Event
DESCRIPTION:Medicare Prescription Drug Benefit Enrollment Event - sponsored by the Nebraska SHIIP (Senior Health Insurance Information Panel) and MHCS.  A MHCS pharmacist will be on hand for questions. \n\nAppointments required - call 1-800-234-7119
X-ALT-DESC;FMTTYPE=text/html:Medicare Prescription Drug Benefit Enrollment Event - sponsored by the Nebraska SHIIP (Senior Health Insurance Information Panel) and MHCS.&nbsp\; A MHCS pharmacist will be on hand for questions.&nbsp\;<br />\nAppointments required - call 1-800-234-7119
LOCATION:Seward Memorial Library\, 233 S. 5th St.\, Seward\, NE 68434
UID:e.865.1148
SEQUENCE:3
DTSTAMP:20260424T155125Z
URL:https://business.cultivatesewardcounty.com/events/details/medicare-prescription-drug-benefit-enrollment-event-10-28-2011-1148
END:VEVENT

END:VCALENDAR
