BEGIN:VCALENDAR
VERSION:2.0
PRODID:-//ChamberMaster//Event Calendar 2.0//EN
METHOD:PUBLISH
X-PUBLISHED-TTL:P3D
REFRESH-INTERVAL:P3D
CALSCALE:GREGORIAN
BEGIN:VEVENT
DTSTART:20130922T190000Z
DTEND:20130922T200000Z
X-MICROSOFT-CDO-ALLDAYEVENT:FALSE
SUMMARY:Mary Doria Russell
DESCRIPTION:Seward Memorial Library will host Author Mary Doria Russell author of last year's All Seward Reads title "Doc" for a speaking event and book signing.
X-ALT-DESC;FMTTYPE=text/html:Seward Memorial Library will host Author Mary Doria Russell author of last year&#39\;s All Seward Reads title &quot\;Doc&quot\; for a speaking event and book signing.
LOCATION:Seward Memorial Library
UID:e.865.2893
SEQUENCE:3
DTSTAMP:20260421T204013Z
URL:https://business.cultivatesewardcounty.com/events/details/mary-doria-russell-09-22-2013-2893
END:VEVENT

END:VCALENDAR
