BEGIN:VCALENDAR
VERSION:2.0
PRODID:-//ChamberMaster//Event Calendar 2.0//EN
METHOD:PUBLISH
X-PUBLISHED-TTL:P3D
REFRESH-INTERVAL:P3D
CALSCALE:GREGORIAN
BEGIN:VEVENT
DTSTART:20120422T210000Z
DTEND:20120422T230000Z
X-MICROSOFT-CDO-ALLDAYEVENT:FALSE
SUMMARY:Male Chorus and Women's Chorale Concert
DESCRIPTION:
X-ALT-DESC;FMTTYPE=text/html:
LOCATION:St. Gregory the Great Seminary\, Seward Neb.
UID:e.865.1370
SEQUENCE:3
DTSTAMP:20260422T201358Z
URL:https://business.cultivatesewardcounty.com/events/details/male-chorus-and-women-s-chorale-concert-04-22-2012-1370
END:VEVENT

END:VCALENDAR
