BEGIN:VCALENDAR
VERSION:2.0
PRODID:-//ChamberMaster//Event Calendar 2.0//EN
METHOD:PUBLISH
X-PUBLISHED-TTL:P3D
REFRESH-INTERVAL:P3D
CALSCALE:GREGORIAN
BEGIN:VEVENT
DTSTART:20120307T160000Z
DTEND:20120307T170000Z
X-MICROSOFT-CDO-ALLDAYEVENT:FALSE
SUMMARY:Maehr Lecture: Rev. Dr. Charles P. Arand
DESCRIPTION:As part of the Looking Beyond Speaker Series\, Rev. Dr. Charles P. Arand will give the annual Maehr Lecture at Concordia. Arand serves on the faculty at Concordia Seminary\, St. Louis. All are welcome to attend this free presentation.
X-ALT-DESC;FMTTYPE=text/html:As part of the Looking Beyond Speaker Series\, Rev. Dr. Charles P. Arand will give the annual Maehr Lecture at Concordia. Arand serves on the faculty at Concordia Seminary\, St. Louis. All are welcome to attend this free presentation.
LOCATION:Weller auditorium\, Concordia University
UID:e.865.1351
SEQUENCE:3
DTSTAMP:20260424T083200Z
URL:https://business.cultivatesewardcounty.com/events/details/maehr-lecture-rev-dr-charles-p-arand-03-07-2012-1351
END:VEVENT

END:VCALENDAR
