BEGIN:VCALENDAR
VERSION:2.0
PRODID:-//ChamberMaster//Event Calendar 2.0//EN
METHOD:PUBLISH
X-PUBLISHED-TTL:P3D
REFRESH-INTERVAL:P3D
CALSCALE:GREGORIAN
BEGIN:VEVENT
DTSTART:20121202T200000Z
DTEND:20121202T213000Z
X-MICROSOFT-CDO-ALLDAYEVENT:FALSE
SUMMARY:Lower Level Libary Tours
DESCRIPTION:In 2003 the Seward community's support and generosity made "Writing the Next Chapter" materialize into a beautiful new library facility. As the library's 100th anniversary of opening the historic Carnegie Building approaches and we remember the first Reading Room in Seward 125 years ago\, it is time for "Finishing the Book." This project involves the Lower Level Expansion and renovation on the main floor. On Sunday\, December 2 from 2 p.m. to 3:30 p.m. the lower level will be open to the public for tours. If you are curious about what is located below the main floor of the library and what could be there in the future\, take advantage of this special opportunity.
X-ALT-DESC;FMTTYPE=text/html:<p>\n	In 2003 the Seward community&rsquo\;s support and generosity made &ldquo\;Writing the Next Chapter&rdquo\; materialize into a beautiful new library facility. As the library&rsquo\;s 100th anniversary of opening the historic Carnegie Building approaches and we remember the first Reading Room in Seward 125 years ago\, it is time for &ldquo\;Finishing the Book.&rdquo\; This project involves the Lower Level Expansion and renovation on the main floor. On Sunday\, December 2 from 2 p.m. to 3:30 p.m. the lower level will be open to the public for tours. If you are curious about what is located below the main floor of the library and what could be there in the future\, take advantage of this special opportunity.</p>\n
LOCATION:Seward Memorial Library
UID:e.865.1738
SEQUENCE:3
DTSTAMP:20260422T083441Z
URL:https://business.cultivatesewardcounty.com/events/details/lower-level-libary-tours-12-02-2012-1738
END:VEVENT

END:VCALENDAR
