BEGIN:VCALENDAR
VERSION:2.0
PRODID:-//ChamberMaster//Event Calendar 2.0//EN
METHOD:PUBLISH
X-PUBLISHED-TTL:P3D
REFRESH-INTERVAL:P3D
CALSCALE:GREGORIAN
BEGIN:VEVENT
DTSTART:20121009T150000Z
DTEND:20121009T160000Z
X-MICROSOFT-CDO-ALLDAYEVENT:FALSE
SUMMARY:Looking Beyond Speaker Series: Gretchen Jameson
DESCRIPTION:Gretchen Jameson will present a unique lecture event\, "The Voice: Communicating with Passion and Purpose in the Social Era." Jameson is a '97 Concordia education graduate and 2010 Young Alumni Recipient\, nonprofit communications strategist\, PR coach\, former Lutheran teacher\, business owner\, speaker and social media student. This presentation was made possible through an ongoing gift from Dr. Martin and Regina Maehr.
X-ALT-DESC;FMTTYPE=text/html:Gretchen Jameson will present a unique lecture event\, &ldquo\;The Voice: Communicating with Passion and Purpose in the Social Era.&quot\; Jameson is a &lsquo\;97 Concordia education graduate and 2010 Young Alumni Recipient\, nonprofit communications strategist\, PR coach\, former Lutheran teacher\, business owner\, speaker and social media student. This presentation was made possible through an ongoing gift from Dr. Martin and Regina Maehr.
LOCATION:Weller Auditorium\, Concordia University
UID:e.865.1716
SEQUENCE:3
DTSTAMP:20260422T112934Z
URL:https://business.cultivatesewardcounty.com/events/details/looking-beyond-speaker-series-gretchen-jameson-10-09-2012-1716
END:VEVENT

END:VCALENDAR
