BEGIN:VCALENDAR
VERSION:2.0
PRODID:-//ChamberMaster//Event Calendar 2.0//EN
METHOD:PUBLISH
X-PUBLISHED-TTL:P3D
REFRESH-INTERVAL:P3D
CALSCALE:GREGORIAN
BEGIN:VEVENT
DTSTART:20120417T000000Z
DTEND:20120417T010000Z
X-MICROSOFT-CDO-ALLDAYEVENT:FALSE
SUMMARY:Looking Beyond Speaker Series: Ernie Chambers
DESCRIPTION:Location: Weller Auditorium\n\n\n\nAs part of the Looking Beyond Speaker Series\, Ernie Chambers will speak on issues in contemporary society. Chambers served for 38 years in the Nebraska Legislature representing North Omaha's 11th District. All are welcome to attend this free presentation.
X-ALT-DESC;FMTTYPE=text/html:Location: Weller Auditorium<br />\n<br />\nAs part of the Looking Beyond Speaker Series\, Ernie Chambers will speak on issues in contemporary society. Chambers served for 38 years in the Nebraska Legislature representing North Omaha&#39\;s 11th District. All are welcome to attend this free presentation.
LOCATION:Concordia University\, Weller Auditorium
UID:e.865.1386
SEQUENCE:3
DTSTAMP:20260422T200851Z
URL:https://business.cultivatesewardcounty.com/events/details/looking-beyond-speaker-series-ernie-chambers-04-16-2012-1386
END:VEVENT

END:VCALENDAR
