BEGIN:VCALENDAR
VERSION:2.0
PRODID:-//ChamberMaster//Event Calendar 2.0//EN
METHOD:PUBLISH
X-PUBLISHED-TTL:P3D
REFRESH-INTERVAL:P3D
CALSCALE:GREGORIAN
BEGIN:VEVENT
DTSTART:20111107T230000Z
DTEND:20111108T000000Z
X-MICROSOFT-CDO-ALLDAYEVENT:FALSE
SUMMARY:Look Good\, Feel Better Classes
DESCRIPTION:Look Good\, Feel Better Classes.  This program is designed for those experiencing the effects of chemotherapy.  Please make a reservation at least one week in advance by calling 646-4707.
X-ALT-DESC;FMTTYPE=text/html:Look Good\, Feel Better Classes.&nbsp\; This program is designed for those experiencing the effects of chemotherapy.&nbsp\; Please make a reservation at least one week in advance by calling 646-4707.
LOCATION:Memorial Hospital Look Good\, Feel Better Salon 300 N. Columbia Ave. Seward\, NE
UID:e.865.1153
SEQUENCE:3
DTSTAMP:20260424T141120Z
URL:https://business.cultivatesewardcounty.com/events/details/look-good-feel-better-classes-11-07-2011-1153
END:VEVENT

END:VCALENDAR
