BEGIN:VCALENDAR
VERSION:2.0
PRODID:-//ChamberMaster//Event Calendar 2.0//EN
METHOD:PUBLISH
X-PUBLISHED-TTL:P3D
REFRESH-INTERVAL:P3D
CALSCALE:GREGORIAN
BEGIN:VEVENT
DTSTART:20110725T223000Z
DTEND:20110725T233000Z
X-MICROSOFT-CDO-ALLDAYEVENT:FALSE
SUMMARY:Look Good\, Feel Better Classes
DESCRIPTION:"Look Good\, Feel Better" Salon.  This program is for those experiencing the effects of chemotherapy. \n\nPlease make a reservation at least one week in advance by calling (402) 646-4707
X-ALT-DESC;FMTTYPE=text/html:&quot\;Look Good\, Feel Better&quot\; Salon.&nbsp\; This program is for those experiencing the effects of chemotherapy.&nbsp\;<br />\nPlease make a reservation at least one week in advance by calling (402) 646-4707
LOCATION:Seward Memorial Hospital 300 N. Columbia Ave. Seward\, NE
UID:e.865.1102
SEQUENCE:3
DTSTAMP:20260424T202229Z
URL:https://business.cultivatesewardcounty.com/events/details/look-good-feel-better-classes-07-25-2011-1102
END:VEVENT

END:VCALENDAR
