BEGIN:VCALENDAR
VERSION:2.0
PRODID:-//ChamberMaster//Event Calendar 2.0//EN
METHOD:PUBLISH
X-PUBLISHED-TTL:P3D
REFRESH-INTERVAL:P3D
CALSCALE:GREGORIAN
BEGIN:VEVENT
DTSTART:20120622T000000Z
DTEND:20120622T010000Z
X-MICROSOFT-CDO-ALLDAYEVENT:FALSE
SUMMARY:Lifetime With Flowers
DESCRIPTION:Seward Memorial Library presents a program featuring Marg Nagel providing information about the floral industry and her experience as a local florist. She will give floral arranging tips and comment on the status of the Victorian language of flowers. Refreshments will be served during this one-hour program which is in conjunction with the 2012 All Seward Reads Together title\, The Language of Flowers.
X-ALT-DESC;FMTTYPE=text/html:Seward Memorial Library presents a program featuring Marg Nagel providing information about the floral industry and her experience as a local florist. She will give floral arranging tips and comment on the status of the Victorian language of flowers. Refreshments will be served during this one-hour program which is in conjunction with the 2012 <em>All Seward Reads Together</em> title\, <em>The Language of Flowers</em>.
LOCATION:Seward Memoral Library
UID:e.865.1400
SEQUENCE:3
DTSTAMP:20260422T172251Z
URL:https://business.cultivatesewardcounty.com/events/details/lifetime-with-flowers-06-21-2012-1400
END:VEVENT

END:VCALENDAR
