BEGIN:VCALENDAR
VERSION:2.0
PRODID:-//ChamberMaster//Event Calendar 2.0//EN
METHOD:PUBLISH
X-PUBLISHED-TTL:P3D
REFRESH-INTERVAL:P3D
CALSCALE:GREGORIAN
BEGIN:VEVENT
DTSTART:20130425T170000Z
DTEND:20130425T180000Z
X-MICROSOFT-CDO-ALLDAYEVENT:FALSE
SUMMARY:Lied Senior Center Potato Bake
DESCRIPTION:Lied Senior Center Potato Bake
X-ALT-DESC;FMTTYPE=text/html:Lied Senior Center Potato Bake
LOCATION:Lied Senior Center 1010 Manor West Drive Seward
UID:e.865.2069
SEQUENCE:3
DTSTAMP:20260422T043457Z
URL:https://business.cultivatesewardcounty.com/events/details/lied-senior-center-potato-bake-04-25-2013-2069
END:VEVENT

END:VCALENDAR
