BEGIN:VCALENDAR
VERSION:2.0
PRODID:-//ChamberMaster//Event Calendar 2.0//EN
METHOD:PUBLISH
X-PUBLISHED-TTL:P3D
REFRESH-INTERVAL:P3D
CALSCALE:GREGORIAN
BEGIN:VEVENT
DTSTART:20131115T000000Z
DTEND:20131115T020000Z
X-MICROSOFT-CDO-ALLDAYEVENT:FALSE
SUMMARY:Liberty House Bed and Breakfast Open House
DESCRIPTION:Liberty House Bed and Breakfast Open House\n\n\n\nhttp://www.libertyhouse.biz/
X-ALT-DESC;FMTTYPE=text/html:Liberty House Bed and Breakfast Open House<br />\n<br />\n<a href="http://www.libertyhouse.biz/">http://www.libertyhouse.biz/</a>
LOCATION:Open HouseLiberty House Bed and Breakfast 441 North 5th St. Seward\, NE
UID:e.865.3365
SEQUENCE:3
DTSTAMP:20260421T191854Z
URL:https://business.cultivatesewardcounty.com/events/details/liberty-house-bed-and-breakfast-open-house-11-14-2013-3365
END:VEVENT

END:VCALENDAR
