BEGIN:VCALENDAR
VERSION:2.0
PRODID:-//ChamberMaster//Event Calendar 2.0//EN
METHOD:PUBLISH
X-PUBLISHED-TTL:P3D
REFRESH-INTERVAL:P3D
CALSCALE:GREGORIAN
BEGIN:VEVENT
DTSTART:20111223T020000Z
DTEND:20111223T050000Z
X-MICROSOFT-CDO-ALLDAYEVENT:FALSE
SUMMARY:Late Night Shopping Extravaganza
DESCRIPTION:Last minute shoppers\, shop downtown Seward for bargains and great gift ideas!
X-ALT-DESC;FMTTYPE=text/html:Last minute shoppers\, shop downtown Seward for bargains and great gift ideas!
LOCATION:Chapters Books & Gifts and other Downtown Seward locations
UID:e.865.1189
SEQUENCE:3
DTSTAMP:20260424T124701Z
URL:https://business.cultivatesewardcounty.com/events/details/late-night-shopping-extravaganza-12-22-2011-1189
END:VEVENT

END:VCALENDAR
